BEGIN:VCALENDAR
VERSION:2.0
PRODID:-//NADI Dabong - ECPv6.15.20//NONSGML v1.0//EN
CALSCALE:GREGORIAN
METHOD:PUBLISH
X-WR-CALNAME:NADI Dabong
X-ORIGINAL-URL:https://dabong.nadi.my
X-WR-CALDESC:Events for NADI Dabong
REFRESH-INTERVAL;VALUE=DURATION:PT1H
X-Robots-Tag:noindex
X-PUBLISHED-TTL:PT1H
BEGIN:VTIMEZONE
TZID:Asia/Kuala_Lumpur
BEGIN:STANDARD
TZOFFSETFROM:+0800
TZOFFSETTO:+0800
TZNAME:+08
DTSTART:20240101T000000
END:STANDARD
END:VTIMEZONE
BEGIN:VEVENT
DTSTART;TZID=Asia/Kuala_Lumpur:20251014T153000
DTEND;TZID=Asia/Kuala_Lumpur:20251014T163000
DTSTAMP:20260425T064954
CREATED:20251013T062159Z
LAST-MODIFIED:20251013T062159Z
UID:3411-1760455800-1760459400@dabong.nadi.my
SUMMARY:DILEA OPEN TUITION TINGKATAN 1-5 (MATEMATIK)
DESCRIPTION:
URL:https://dabong.nadi.my/event/dilea-open-tuition-tingkatan-1-5-matematik/
END:VEVENT
END:VCALENDAR