BEGIN:VCALENDAR
VERSION:2.0
PRODID:-//NADI Dabong - ECPv6.15.20//NONSGML v1.0//EN
CALSCALE:GREGORIAN
METHOD:PUBLISH
X-WR-CALNAME:NADI Dabong
X-ORIGINAL-URL:https://dabong.nadi.my
X-WR-CALDESC:Events for NADI Dabong
REFRESH-INTERVAL;VALUE=DURATION:PT1H
X-Robots-Tag:noindex
X-PUBLISHED-TTL:PT1H
BEGIN:VTIMEZONE
TZID:Asia/Kuala_Lumpur
BEGIN:STANDARD
TZOFFSETFROM:+0800
TZOFFSETTO:+0800
TZNAME:+08
DTSTART:20240101T000000
END:STANDARD
END:VTIMEZONE
BEGIN:VEVENT
DTSTART;TZID=Asia/Kuala_Lumpur:20251218T150000
DTEND;TZID=Asia/Kuala_Lumpur:20251218T163000
DTSTAMP:20260423T054109
CREATED:20251217T093643Z
LAST-MODIFIED:20251217T093643Z
UID:3559-1766070000-1766075400@dabong.nadi.my
SUMMARY:RISIKO KAMERA TERSEMBUNYI\,APA YANG PERLU ANDA TAHU SLOT 2
DESCRIPTION:
URL:https://dabong.nadi.my/event/risiko-kamera-tersembunyiapa-yang-perlu-anda-tahu-slot-2/
END:VEVENT
END:VCALENDAR