BEGIN:VCALENDAR
VERSION:2.0
PRODID:-//NADI Dabong - ECPv6.15.20//NONSGML v1.0//EN
CALSCALE:GREGORIAN
METHOD:PUBLISH
X-WR-CALNAME:NADI Dabong
X-ORIGINAL-URL:https://dabong.nadi.my
X-WR-CALDESC:Events for NADI Dabong
REFRESH-INTERVAL;VALUE=DURATION:PT1H
X-Robots-Tag:noindex
X-PUBLISHED-TTL:PT1H
BEGIN:VTIMEZONE
TZID:Asia/Kuala_Lumpur
BEGIN:STANDARD
TZOFFSETFROM:+0800
TZOFFSETTO:+0800
TZNAME:+08
DTSTART:20240101T000000
END:STANDARD
END:VTIMEZONE
BEGIN:VEVENT
DTSTART;TZID=Asia/Kuala_Lumpur:20260418T110000
DTEND;TZID=Asia/Kuala_Lumpur:20260418T120000
DTSTAMP:20260419T212115
CREATED:20260417T074736Z
LAST-MODIFIED:20260417T074736Z
UID:3921-1776510000-1776513600@dabong.nadi.my
SUMMARY:TINY TECHIES-PYTHON IN ANIMATION
DESCRIPTION:
URL:https://dabong.nadi.my/event/tiny-techies-python-in-animation/
END:VEVENT
BEGIN:VEVENT
DTSTART;TZID=Asia/Kuala_Lumpur:20260418T100000
DTEND;TZID=Asia/Kuala_Lumpur:20260418T113000
DTSTAMP:20260419T212115
CREATED:20260417T074916Z
LAST-MODIFIED:20260417T074916Z
UID:3923-1776506400-1776511800@dabong.nadi.my
SUMMARY:NADI KIDSVENTURE:WEBINAR ATAS TALIAN-PEMASARAN 1
DESCRIPTION:
URL:https://dabong.nadi.my/event/nadi-kidsventurewebinar-atas-talian-pemasaran-1/
END:VEVENT
BEGIN:VEVENT
DTSTART;TZID=Asia/Kuala_Lumpur:20260418T093000
DTEND;TZID=Asia/Kuala_Lumpur:20260418T103000
DTSTAMP:20260419T212115
CREATED:20260417T074626Z
LAST-MODIFIED:20260417T074626Z
UID:3919-1776504600-1776508200@dabong.nadi.my
SUMMARY:TINY TECHIES-ROBOTIC INNOVATION
DESCRIPTION:
URL:https://dabong.nadi.my/event/tiny-techies-robotic-innovation/
END:VEVENT
BEGIN:VEVENT
DTSTART;TZID=Asia/Kuala_Lumpur:20260305T140000
DTEND;TZID=Asia/Kuala_Lumpur:20260305T153000
DTSTAMP:20260419T212115
CREATED:20260227T015629Z
LAST-MODIFIED:20260227T015629Z
UID:3828-1772719200-1772724600@dabong.nadi.my
SUMMARY:JEMPUTAN LIVE WEBINAR NADI x CYBERSECURITY BAGI BULAN MAC 2026-BAHAYA SERANGAN MALWARE
DESCRIPTION:
URL:https://dabong.nadi.my/event/jemputan-live-webinar-nadi-x-cybersecurity-bagi-bulan-mac-2026-bahaya-serangan-malware/
END:VEVENT
BEGIN:VEVENT
DTSTART;TZID=Asia/Kuala_Lumpur:20260228T093000
DTEND;TZID=Asia/Kuala_Lumpur:20260228T103000
DTSTAMP:20260419T212115
CREATED:20260227T015728Z
LAST-MODIFIED:20260227T015728Z
UID:3830-1772271000-1772274600@dabong.nadi.my
SUMMARY:Ihya Ramadan: Jom Mengaji @ NADI
DESCRIPTION:
URL:https://dabong.nadi.my/event/ihya-ramadan-jom-mengaji-nadi/
END:VEVENT
BEGIN:VEVENT
DTSTART;TZID=Asia/Kuala_Lumpur:20260228T090000
DTEND;TZID=Asia/Kuala_Lumpur:20260228T130000
DTSTAMP:20260419T212115
CREATED:20260227T015934Z
LAST-MODIFIED:20260227T015934Z
UID:3832-1772269200-1772283600@dabong.nadi.my
SUMMARY:WEBINAR NADI E-SUKAN – WORLD BUILDING
DESCRIPTION:
URL:https://dabong.nadi.my/event/webinar-nadi-e-sukan-world-building/
END:VEVENT
BEGIN:VEVENT
DTSTART;TZID=Asia/Kuala_Lumpur:20260211T123000
DTEND;TZID=Asia/Kuala_Lumpur:20260211T130000
DTSTAMP:20260419T212115
CREATED:20260209T021307Z
LAST-MODIFIED:20260209T021307Z
UID:3761-1770813000-1770814800@dabong.nadi.my
SUMMARY:Mahir Baiki Gajet : Pengoptimuman Prestasi Telefon Pintar
DESCRIPTION:
URL:https://dabong.nadi.my/event/mahir-baiki-gajet-pengoptimuman-prestasi-telefon-pintar/
END:VEVENT
BEGIN:VEVENT
DTSTART;TZID=Asia/Kuala_Lumpur:20260211T120000
DTEND;TZID=Asia/Kuala_Lumpur:20260211T123000
DTSTAMP:20260419T212115
CREATED:20260209T021507Z
LAST-MODIFIED:20260209T021507Z
UID:3765-1770811200-1770813000@dabong.nadi.my
SUMMARY:Mahir Pertanian Pintar:Teknik Mengekstrak Pati Halia Untuk Koktel Racun Organik
DESCRIPTION:
URL:https://dabong.nadi.my/event/mahir-pertanian-pintarteknik-mengekstrak-pati-halia-untuk-koktel-racun-organik/
END:VEVENT
BEGIN:VEVENT
DTSTART;TZID=Asia/Kuala_Lumpur:20260211T110000
DTEND;TZID=Asia/Kuala_Lumpur:20260211T120000
DTSTAMP:20260419T212115
CREATED:20260209T021411Z
LAST-MODIFIED:20260209T021411Z
UID:3763-1770807600-1770811200@dabong.nadi.my
SUMMARY:Mahir Foto “DARI BIASA KE LUAR BIASA"
DESCRIPTION:
URL:https://dabong.nadi.my/event/mahir-foto-dari-biasa-ke-luar-biasa/
END:VEVENT
BEGIN:VEVENT
DTSTART;TZID=Asia/Kuala_Lumpur:20260207T150000
DTEND;TZID=Asia/Kuala_Lumpur:20260207T160000
DTSTAMP:20260419T212115
CREATED:20260205T065659Z
LAST-MODIFIED:20260205T065659Z
UID:3746-1770476400-1770480000@dabong.nadi.my
SUMMARY:WEBINAR KEMPEN INTERNET SELAMAT 2026 SIRI 14-ELAK BULI SIBER: TANGGUNGJAWAB DIGITAL\, MULAKAN DARI KITA
DESCRIPTION:
URL:https://dabong.nadi.my/event/webinar-kempen-internet-selamat-2026-siri-14-elak-buli-siber-tanggungjawab-digital-mulakan-dari-kita/
END:VEVENT
BEGIN:VEVENT
DTSTART;TZID=Asia/Kuala_Lumpur:20260207T140000
DTEND;TZID=Asia/Kuala_Lumpur:20260207T150000
DTSTAMP:20260419T212115
CREATED:20260205T070127Z
LAST-MODIFIED:20260205T070127Z
UID:3750-1770472800-1770476400@dabong.nadi.my
SUMMARY:TINY TECHIES-KELAS ULANGKAJI SIRI 2 (ATAS TALIAN): MICRO:BIT & ROBOTIK (UNTUK SEKOLAH RENDAH)
DESCRIPTION:
URL:https://dabong.nadi.my/event/tiny-techies-kelas-ulangkaji-siri-2-atas-talian-microbit-robotik-untuk-sekolah-rendah/
END:VEVENT
BEGIN:VEVENT
DTSTART;TZID=Asia/Kuala_Lumpur:20260207T100000
DTEND;TZID=Asia/Kuala_Lumpur:20260207T113000
DTSTAMP:20260419T212115
CREATED:20260205T065848Z
LAST-MODIFIED:20260205T065848Z
UID:3748-1770458400-1770463800@dabong.nadi.my
SUMMARY:NADI KIDSVENTURE 2026 -WEBINAR ATAS TALIAN : OPERASI PERNIAGAAN
DESCRIPTION:
URL:https://dabong.nadi.my/event/nadi-kidsventure-2026-webinar-atas-talian-operasi-perniagaan/
END:VEVENT
BEGIN:VEVENT
DTSTART;TZID=Asia/Kuala_Lumpur:20260131T150000
DTEND;TZID=Asia/Kuala_Lumpur:20260131T160000
DTSTAMP:20260419T212115
CREATED:20260130T014113Z
LAST-MODIFIED:20260130T014113Z
UID:3731-1769871600-1769875200@dabong.nadi.my
SUMMARY:NADI TINY TECHIES - KELAS ULANGKAJI PYTHON HTML SQL
DESCRIPTION:
URL:https://dabong.nadi.my/event/nadi-tiny-techies-kelas-ulangkaji-python-html-sql/
END:VEVENT
BEGIN:VEVENT
DTSTART;TZID=Asia/Kuala_Lumpur:20260131T143000
DTEND;TZID=Asia/Kuala_Lumpur:20260131T163000
DTSTAMP:20260419T212115
CREATED:20260130T013859Z
LAST-MODIFIED:20260130T013859Z
UID:3727-1769869800-1769877000@dabong.nadi.my
SUMMARY:NADI DILEA - WEBINAR BERKALA BAHASA INGGERIS EDISI 7 : CORRECT TECHNIQUE FOR ANSWERING PAPER 2 FOR SPM
DESCRIPTION:
URL:https://dabong.nadi.my/event/nadi-dilea-webinar-berkala-bahasa-inggeris-edisi-7-correct-technique-for-answering-paper-2-for-spm/
END:VEVENT
BEGIN:VEVENT
DTSTART;TZID=Asia/Kuala_Lumpur:20260131T140000
DTEND;TZID=Asia/Kuala_Lumpur:20260131T150000
DTSTAMP:20260419T212115
CREATED:20260130T014021Z
LAST-MODIFIED:20260130T014021Z
UID:3729-1769868000-1769871600@dabong.nadi.my
SUMMARY:NADI TINY TECHIES - KELAS ULANGKAJI MICROBIT ROBOTIK
DESCRIPTION:
URL:https://dabong.nadi.my/event/nadi-tiny-techies-kelas-ulangkaji-microbit-robotik/
END:VEVENT
BEGIN:VEVENT
DTSTART;TZID=Asia/Kuala_Lumpur:20260131T100000
DTEND;TZID=Asia/Kuala_Lumpur:20260131T113000
DTSTAMP:20260419T212115
CREATED:20260130T013726Z
LAST-MODIFIED:20260130T013726Z
UID:3725-1769853600-1769859000@dabong.nadi.my
SUMMARY:NADI KIDSVENTURE 2026- WEBINAR : BIJAK KEWANGAN
DESCRIPTION:
URL:https://dabong.nadi.my/event/nadi-kidsventure-2026-webinar-bijak-kewangan/
END:VEVENT
BEGIN:VEVENT
DTSTART;TZID=Asia/Kuala_Lumpur:20260124T100000
DTEND;TZID=Asia/Kuala_Lumpur:20260124T113000
DTSTAMP:20260419T212115
CREATED:20260121T085426Z
LAST-MODIFIED:20260121T085426Z
UID:3707-1769248800-1769254200@dabong.nadi.my
SUMMARY:NADI KIDSVENTURE-WEBINAR PELAN PERNIAGAAN MINI 2
DESCRIPTION:
URL:https://dabong.nadi.my/event/nadi-kidsventure-webinar-pelan-perniagaan-mini-2/
END:VEVENT
BEGIN:VEVENT
DTSTART;TZID=Asia/Kuala_Lumpur:20260122T150000
DTEND;TZID=Asia/Kuala_Lumpur:20260122T160000
DTSTAMP:20260419T212115
CREATED:20260121T085214Z
LAST-MODIFIED:20260121T085214Z
UID:3705-1769094000-1769097600@dabong.nadi.my
SUMMARY:PROGRAM CYBER HYGIENE
DESCRIPTION:
URL:https://dabong.nadi.my/event/program-cyber-hygiene/
END:VEVENT
BEGIN:VEVENT
DTSTART;TZID=Asia/Kuala_Lumpur:20260122T100000
DTEND;TZID=Asia/Kuala_Lumpur:20260122T120000
DTSTAMP:20260419T212115
CREATED:20260121T084825Z
LAST-MODIFIED:20260121T084825Z
UID:3701-1769076000-1769083200@dabong.nadi.my
SUMMARY:NADI EMPOWERHER - LIVE WEBINAR PERANCANGAN KEWANGAN
DESCRIPTION:
URL:https://dabong.nadi.my/event/nadi-empowerher-live-webinar-perancangan-kewangan/
END:VEVENT
BEGIN:VEVENT
DTSTART;TZID=Asia/Kuala_Lumpur:20260122T100000
DTEND;TZID=Asia/Kuala_Lumpur:20260122T110000
DTSTAMP:20260419T212115
CREATED:20260121T085043Z
LAST-MODIFIED:20260121T085043Z
UID:3703-1769076000-1769079600@dabong.nadi.my
SUMMARY:WEBINAR NADI NURTURE EKELAS USAHAWAN-ASAS VISUAL KOMUNIKASI
DESCRIPTION:
URL:https://dabong.nadi.my/event/webinar-nadi-nurture-ekelas-usahawan-asas-visual-komunikasi/
END:VEVENT
BEGIN:VEVENT
DTSTART;TZID=Asia/Kuala_Lumpur:20260115T150000
DTEND;TZID=Asia/Kuala_Lumpur:20260115T163000
DTSTAMP:20260419T212115
CREATED:20260106T044105Z
LAST-MODIFIED:20260106T044105Z
UID:3635-1768489200-1768494600@dabong.nadi.my
SUMMARY:ANCAMAN SIBER DALAM DUNIA DIGITAL
DESCRIPTION:
URL:https://dabong.nadi.my/event/ancaman-siber-dalam-dunia-digital/
END:VEVENT
BEGIN:VEVENT
DTSTART;TZID=Asia/Kuala_Lumpur:20260103T143000
DTEND;TZID=Asia/Kuala_Lumpur:20260103T163000
DTSTAMP:20260419T212115
CREATED:20251231T075508Z
LAST-MODIFIED:20251231T075508Z
UID:3625-1767450600-1767457800@dabong.nadi.my
SUMMARY:NADI DILEA : TUISYEN RAKYAT : PROGRAM KHAS -WEBINAR BERKALA SAINS EDISI 1
DESCRIPTION:
URL:https://dabong.nadi.my/event/nadi-dilea-tuisyen-rakyat-program-khas-webinar-berkala-sains-edisi-1/
END:VEVENT
BEGIN:VEVENT
DTSTART;TZID=Asia/Kuala_Lumpur:20251229T100000
DTEND;TZID=Asia/Kuala_Lumpur:20251229T140000
DTSTAMP:20260419T212115
CREATED:20251207T071820Z
LAST-MODIFIED:20251207T071820Z
UID:3540-1767002400-1767016800@dabong.nadi.my
SUMMARY:TABUNG HAJI GERAK DI NADI DABONG
DESCRIPTION:
URL:https://dabong.nadi.my/event/tabung-haji-gerak-di-nadi-dabong-2/
END:VEVENT
BEGIN:VEVENT
DTSTART;TZID=Asia/Kuala_Lumpur:20251218T150000
DTEND;TZID=Asia/Kuala_Lumpur:20251218T163000
DTSTAMP:20260419T212115
CREATED:20251217T093643Z
LAST-MODIFIED:20251217T093643Z
UID:3559-1766070000-1766075400@dabong.nadi.my
SUMMARY:RISIKO KAMERA TERSEMBUNYI\,APA YANG PERLU ANDA TAHU SLOT 2
DESCRIPTION:
URL:https://dabong.nadi.my/event/risiko-kamera-tersembunyiapa-yang-perlu-anda-tahu-slot-2/
END:VEVENT
BEGIN:VEVENT
DTSTART;TZID=Asia/Kuala_Lumpur:20251209T153000
DTEND;TZID=Asia/Kuala_Lumpur:20251209T163000
DTSTAMP:20260419T212115
CREATED:20251207T072206Z
LAST-MODIFIED:20251207T072206Z
UID:3544-1765294200-1765297800@dabong.nadi.my
SUMMARY:TUISYEN TERBUKA-SAINS (TING 1-5)
DESCRIPTION:
URL:https://dabong.nadi.my/event/tuisyen-terbuka-sains-ting-1-5/
END:VEVENT
BEGIN:VEVENT
DTSTART;TZID=Asia/Kuala_Lumpur:20251208T153000
DTEND;TZID=Asia/Kuala_Lumpur:20251208T163000
DTSTAMP:20260419T212115
CREATED:20251207T072049Z
LAST-MODIFIED:20251207T072049Z
UID:3542-1765207800-1765211400@dabong.nadi.my
SUMMARY:TUISYEN TERBUKA-SEJARAH (TING 1-5)
DESCRIPTION:
URL:https://dabong.nadi.my/event/tuisyen-terbuka-sejarah-ting-1-5/
END:VEVENT
BEGIN:VEVENT
DTSTART;TZID=Asia/Kuala_Lumpur:20251206T143000
DTEND;TZID=Asia/Kuala_Lumpur:20251206T163000
DTSTAMP:20260419T212115
CREATED:20251203T021044Z
LAST-MODIFIED:20251203T021044Z
UID:3516-1765031400-1765038600@dabong.nadi.my
SUMMARY:WEBINAR MOTIVASI EDISI 4: FRESH START\, SIKAP BAHARU UNTUK PEMBELAJARAN LEBIH BAIK
DESCRIPTION:
URL:https://dabong.nadi.my/event/webinar-motivasi-edisi-4-fresh-start-sikap-baharu-untuk-pembelajaran-lebih-baik/
END:VEVENT
BEGIN:VEVENT
DTSTART;TZID=Asia/Kuala_Lumpur:20251204T150000
DTEND;TZID=Asia/Kuala_Lumpur:20251204T163000
DTSTAMP:20260419T212115
CREATED:20251203T021316Z
LAST-MODIFIED:20251203T021316Z
UID:3518-1764860400-1764865800@dabong.nadi.my
SUMMARY:RISIKO KAMERA TERSEMBUNYI\, APA YANG PERLU ANDA TAHU
DESCRIPTION:
URL:https://dabong.nadi.my/event/risiko-kamera-tersembunyi-apa-yang-perlu-anda-tahu/
END:VEVENT
BEGIN:VEVENT
DTSTART;TZID=Asia/Kuala_Lumpur:20251108T143000
DTEND;TZID=Asia/Kuala_Lumpur:20251108T163000
DTSTAMP:20260419T212115
CREATED:20251031T014011Z
LAST-MODIFIED:20251031T014011Z
UID:3469-1762612200-1762619400@dabong.nadi.my
SUMMARY:Program Khas - Webinar Gerak Gempur SPM Sejarah
DESCRIPTION:
URL:https://dabong.nadi.my/event/program-khas-webinar-gerak-gempur-spm-sejarah/
END:VEVENT
BEGIN:VEVENT
DTSTART;TZID=Asia/Kuala_Lumpur:20251025T143000
DTEND;TZID=Asia/Kuala_Lumpur:20251025T163000
DTSTAMP:20260419T212115
CREATED:20251014T022315Z
LAST-MODIFIED:20251014T022315Z
UID:3435-1761402600-1761409800@dabong.nadi.my
SUMMARY:PROGRAM KHAS – WEBINAR BERKALA MATEMATIK EDISI 4
DESCRIPTION:
URL:https://dabong.nadi.my/event/program-khas-webinar-berkala-matematik-edisi-4/
END:VEVENT
END:VCALENDAR