BEGIN:VCALENDAR
VERSION:2.0
PRODID:-//NADI Dabong - ECPv6.15.20//NONSGML v1.0//EN
CALSCALE:GREGORIAN
METHOD:PUBLISH
X-WR-CALNAME:NADI Dabong
X-ORIGINAL-URL:https://dabong.nadi.my
X-WR-CALDESC:Events for NADI Dabong
REFRESH-INTERVAL;VALUE=DURATION:PT1H
X-Robots-Tag:noindex
X-PUBLISHED-TTL:PT1H
BEGIN:VTIMEZONE
TZID:Asia/Kuala_Lumpur
BEGIN:STANDARD
TZOFFSETFROM:+0800
TZOFFSETTO:+0800
TZNAME:+08
DTSTART:20240101T000000
END:STANDARD
END:VTIMEZONE
BEGIN:VTIMEZONE
TZID:UTC
BEGIN:STANDARD
TZOFFSETFROM:+0000
TZOFFSETTO:+0000
TZNAME:UTC
DTSTART:20240101T000000
END:STANDARD
END:VTIMEZONE
BEGIN:VTIMEZONE
TZID:UTC
BEGIN:STANDARD
TZOFFSETFROM:+0000
TZOFFSETTO:+0000
TZNAME:UTC
DTSTART:20210101T000000
END:STANDARD
END:VTIMEZONE
BEGIN:VEVENT
DTSTART;TZID=Asia/Kuala_Lumpur:20250425T153000
DTEND;TZID=Asia/Kuala_Lumpur:20250425T170000
DTSTAMP:20260423T092709
CREATED:20250410T070935Z
LAST-MODIFIED:20250410T070935Z
UID:2919-1745595000-1745600400@dabong.nadi.my
SUMMARY:WEBINAR: KESELAMATAN SIBER UNTUK WANITA
DESCRIPTION:
URL:https://dabong.nadi.my/event/webinar-keselamatan-siber-untuk-wanita/
END:VEVENT
BEGIN:VEVENT
DTSTART;TZID=Asia/Kuala_Lumpur:20250419T143000
DTEND;TZID=Asia/Kuala_Lumpur:20250419T163000
DTSTAMP:20260423T092709
CREATED:20250415T025919Z
LAST-MODIFIED:20250415T025919Z
UID:2947-1745073000-1745080200@dabong.nadi.my
SUMMARY:WEBINAR BERKALA BAHASA INGGERIS
DESCRIPTION:
URL:https://dabong.nadi.my/event/webinar-berkala-bahasa-inggeris/
END:VEVENT
BEGIN:VEVENT
DTSTART;TZID=Asia/Kuala_Lumpur:20250412T143000
DTEND;TZID=Asia/Kuala_Lumpur:20250412T163000
DTSTAMP:20260423T092709
CREATED:20250408T014903Z
LAST-MODIFIED:20250408T014903Z
UID:2911-1744468200-1744475400@dabong.nadi.my
SUMMARY:NADI DILEA-PROGRAM KHAS WEBINAR BERKALA SEJARAH
DESCRIPTION:
URL:https://dabong.nadi.my/event/nadi-dilea-program-khas-webinar-berkala-sejarah/
END:VEVENT
BEGIN:VEVENT
DTSTART;TZID=Asia/Kuala_Lumpur:20250412T140000
DTEND;TZID=Asia/Kuala_Lumpur:20250412T160000
DTSTAMP:20260423T092709
CREATED:20250408T015106Z
LAST-MODIFIED:20250408T015106Z
UID:2913-1744466400-1744473600@dabong.nadi.my
SUMMARY:MAHIR FOTO-TIPS UNTUK CONTENT CREATOR
DESCRIPTION:
URL:https://dabong.nadi.my/event/mahir-foto-tips-untuk-content-creator/
END:VEVENT
BEGIN:VEVENT
DTSTART;TZID=Asia/Kuala_Lumpur:20250320T153000
DTEND;TZID=Asia/Kuala_Lumpur:20250320T163000
DTSTAMP:20260423T092709
CREATED:20250310T013800Z
LAST-MODIFIED:20250310T013800Z
UID:2843-1742484600-1742488200@dabong.nadi.my
SUMMARY:DiLEA BAHASA INGGERIS TINGKATAN 5
DESCRIPTION:
URL:https://dabong.nadi.my/event/dilea-bahasa-inggeris-tingkatan-5/
END:VEVENT
BEGIN:VEVENT
DTSTART;TZID=Asia/Kuala_Lumpur:20250319T153000
DTEND;TZID=Asia/Kuala_Lumpur:20250319T163000
DTSTAMP:20260423T092709
CREATED:20250310T013631Z
LAST-MODIFIED:20250310T013631Z
UID:2841-1742398200-1742401800@dabong.nadi.my
SUMMARY:DiLEA SEJARAH TINGKATAN 5
DESCRIPTION:
URL:https://dabong.nadi.my/event/dilea-sejarah-tingkatan-5/
END:VEVENT
BEGIN:VEVENT
DTSTART;TZID=Asia/Kuala_Lumpur:20250317T153000
DTEND;TZID=Asia/Kuala_Lumpur:20250317T163000
DTSTAMP:20260423T092709
CREATED:20250310T013535Z
LAST-MODIFIED:20250310T013535Z
UID:2839-1742225400-1742229000@dabong.nadi.my
SUMMARY:DiLEA BAHASA MELAYU TINGKATAN 5
DESCRIPTION:
URL:https://dabong.nadi.my/event/dilea-bahasa-melayu-tingkatan-5/
END:VEVENT
BEGIN:VEVENT
DTSTART;TZID=Asia/Kuala_Lumpur:20250316T153000
DTEND;TZID=Asia/Kuala_Lumpur:20250316T163000
DTSTAMP:20260423T092709
CREATED:20250310T013416Z
LAST-MODIFIED:20250310T013416Z
UID:2837-1742139000-1742142600@dabong.nadi.my
SUMMARY:DiLEA MATEMATIK TINGKATAN 5
DESCRIPTION:
URL:https://dabong.nadi.my/event/dilea-matematik-tingkatan-5/
END:VEVENT
BEGIN:VEVENT
DTSTART;TZID=Asia/Kuala_Lumpur:20250315T140000
DTEND;TZID=Asia/Kuala_Lumpur:20250315T160000
DTSTAMP:20260423T092709
CREATED:20250304T022232Z
LAST-MODIFIED:20250304T022256Z
UID:2835-1742047200-1742054400@dabong.nadi.my
SUMMARY:PROGRAM KHAS:WEBINAR BERKALA BAHASA INGGERIS
DESCRIPTION:
URL:https://dabong.nadi.my/event/program-khaswebinar-berkala-bahasa-inggeris/
END:VEVENT
BEGIN:VEVENT
DTSTART;TZID=Asia/Kuala_Lumpur:20250308T100000
DTEND;TZID=Asia/Kuala_Lumpur:20250308T113000
DTSTAMP:20260423T092709
CREATED:20250301T011720Z
LAST-MODIFIED:20250301T011720Z
UID:2816-1741428000-1741433400@dabong.nadi.my
SUMMARY:WEBINAR :KESELAMATAN SIBER DALAM ESPORT: LINDUNGI AKAUN DAN REPUTASI ANDA
DESCRIPTION:
URL:https://dabong.nadi.my/event/webinar-keselamatan-siber-dalam-esport-lindungi-akaun-dan-reputasi-anda/
END:VEVENT
BEGIN:VEVENT
DTSTART;TZID=Asia/Kuala_Lumpur:20250225T150000
DTEND;TZID=Asia/Kuala_Lumpur:20250225T160000
DTSTAMP:20260423T092709
CREATED:20250220T065535Z
LAST-MODIFIED:20250220T065535Z
UID:2764-1740495600-1740499200@dabong.nadi.my
SUMMARY:Program Webinar NADI Safe & Shield 2025 Siri 2
DESCRIPTION:
URL:https://dabong.nadi.my/event/program-webinar-nadi-safe-shield-2025-siri-2/
END:VEVENT
BEGIN:VEVENT
DTSTART;TZID=Asia/Kuala_Lumpur:20250222T150000
DTEND;TZID=Asia/Kuala_Lumpur:20250222T163000
DTSTAMP:20260423T092709
CREATED:20250220T065256Z
LAST-MODIFIED:20250220T065256Z
UID:2762-1740236400-1740241800@dabong.nadi.my
SUMMARY:SEMINAR MOTIVASI PELAJAR
DESCRIPTION:
URL:https://dabong.nadi.my/event/seminar-motivasi-pelajar/
END:VEVENT
BEGIN:VEVENT
DTSTART;TZID=UTC:20250212T090000
DTEND;TZID=UTC:20250212T140000
DTSTAMP:20260423T092709
CREATED:20250125T232606Z
LAST-MODIFIED:20250125T232606Z
UID:2708-1739350800-1739368800@dabong.nadi.my
SUMMARY:KAUNTER LITAR PENDAFTARAN PERNIAGAAN SSM
DESCRIPTION:
URL:https://dabong.nadi.my/event/kaunter-litar-pendaftaran-perniagaan-ssm/
END:VEVENT
BEGIN:VEVENT
DTSTART;TZID=UTC:20250208T143000
DTEND;TZID=UTC:20250208T163000
DTSTAMP:20260423T092709
CREATED:20250205T224233Z
LAST-MODIFIED:20250205T224233Z
UID:2723-1739025000-1739032200@dabong.nadi.my
SUMMARY:PROGRAM KHAS WEBINAR BERKALA MATEMATIK
DESCRIPTION:
URL:https://dabong.nadi.my/event/program-khas-webinar-berkala-matematik/
END:VEVENT
BEGIN:VEVENT
DTSTART;TZID=UTC:20250125T153000
DTEND;TZID=UTC:20250125T163000
DTSTAMP:20260423T092709
CREATED:20250102T181747Z
LAST-MODIFIED:20250102T181747Z
UID:2615-1737819000-1737822600@dabong.nadi.my
SUMMARY:DiLEA PROGRAM KHAS (BAB 4)
DESCRIPTION:
URL:https://dabong.nadi.my/event/dilea-program-khas-bab-4-2/
END:VEVENT
BEGIN:VEVENT
DTSTART;TZID=UTC:20250123T153000
DTEND;TZID=UTC:20250123T163000
DTSTAMP:20260423T092709
CREATED:20250104T232424Z
LAST-MODIFIED:20250104T232424Z
UID:2643-1737646200-1737649800@dabong.nadi.my
SUMMARY:DiLEA-BAHASA INGGERIS
DESCRIPTION:
URL:https://dabong.nadi.my/event/dilea-bahasa-inggeris/
END:VEVENT
BEGIN:VEVENT
DTSTART;TZID=UTC:20250121T153000
DTEND;TZID=UTC:20250121T163000
DTSTAMP:20260423T092709
CREATED:20250104T232327Z
LAST-MODIFIED:20250104T232327Z
UID:2641-1737473400-1737477000@dabong.nadi.my
SUMMARY:DiLEA-SEJARAH
DESCRIPTION:
URL:https://dabong.nadi.my/event/dilea-sejarah/
END:VEVENT
BEGIN:VEVENT
DTSTART;TZID=UTC:20250120T153000
DTEND;TZID=UTC:20250120T163000
DTSTAMP:20260423T092709
CREATED:20250104T232237Z
LAST-MODIFIED:20250104T232237Z
UID:2639-1737387000-1737390600@dabong.nadi.my
SUMMARY:DiLEA-BAHASA MELAYU
DESCRIPTION:
URL:https://dabong.nadi.my/event/dilea-bahasa-melayu/
END:VEVENT
BEGIN:VEVENT
DTSTART;TZID=UTC:20250119T153000
DTEND;TZID=UTC:20250119T163000
DTSTAMP:20260423T092709
CREATED:20250104T232129Z
LAST-MODIFIED:20250104T232129Z
UID:2637-1737300600-1737304200@dabong.nadi.my
SUMMARY:DiLEA-MATEMATIK
DESCRIPTION:
URL:https://dabong.nadi.my/event/dilea-matematik/
END:VEVENT
BEGIN:VEVENT
DTSTART;TZID=UTC:20250118T153000
DTEND;TZID=UTC:20250118T163000
DTSTAMP:20260423T092709
CREATED:20250102T181116Z
LAST-MODIFIED:20250102T181532Z
UID:2611-1737214200-1737217800@dabong.nadi.my
SUMMARY:DiLEA PROGRAM KHAS (BAB 3)
DESCRIPTION:
URL:https://dabong.nadi.my/event/dilea-program-khas-bab-4/
END:VEVENT
BEGIN:VEVENT
DTSTART;TZID=UTC:20240829T090000
DTEND;TZID=UTC:20240829T120000
DTSTAMP:20260423T092709
CREATED:20240829T020129Z
LAST-MODIFIED:20240829T020129Z
UID:2486-1724922000-1724932800@dabong.nadi.my
SUMMARY:SAMBUTAN KEMERDEKAAN KE 67 BERSAMA TADIKA KEMAS DABONG
DESCRIPTION:
URL:https://dabong.nadi.my/event/sambutan-kemerdekaan-ke-67-bersama-tadika-kemas-dabong/
LOCATION:NaDi DABONG\, NaDi DABONG
CATEGORIES:DEFAULT
END:VEVENT
BEGIN:VEVENT
DTSTART;TZID=UTC:20240326T100000
DTEND;TZID=UTC:20240326T150000
DTSTAMP:20260423T092709
CREATED:20240324T202630Z
LAST-MODIFIED:20240324T202630Z
UID:2485-1711447200-1711465200@dabong.nadi.my
SUMMARY:KAUNTER PENDAFTARAN PADU
DESCRIPTION:
URL:https://dabong.nadi.my/event/kaunter-pendaftaran-padu/
LOCATION:NaDi DABONG\, NaDi DABONG
CATEGORIES:DEFAULT
ATTACH;FMTTYPE=image/png:https://dabong.nadi.my/wp-content/uploads/2024/03/26_MAC_2024-min.png
END:VEVENT
BEGIN:VEVENT
DTSTART;TZID=UTC:20240128T100000
DTEND;TZID=UTC:20240128T160000
DTSTAMP:20260423T092709
CREATED:20240120T002226Z
LAST-MODIFIED:20240120T002226Z
UID:2482-1706436000-1706457600@dabong.nadi.my
SUMMARY:Pendaftaran PADU @ PEDi Dabong
DESCRIPTION:
URL:https://dabong.nadi.my/event/pendaftaran-padu-pedi-dabong-2/
LOCATION:PEDi DABONG\, PEDi DABONG
CATEGORIES:DEFAULT
END:VEVENT
BEGIN:VEVENT
DTSTART;TZID=UTC:20240116T100000
DTEND;TZID=UTC:20240116T160000
DTSTAMP:20260423T092709
CREATED:20240120T002029Z
LAST-MODIFIED:20240120T002029Z
UID:2480-1705399200-1705420800@dabong.nadi.my
SUMMARY:Pendaftaran PADU @ PEDi Dabong
DESCRIPTION:
URL:https://dabong.nadi.my/event/pendaftaran-padu-pedi-dabong/
LOCATION:PEDi DABONG\, PEDi DABONG
CATEGORIES:DEFAULT
END:VEVENT
BEGIN:VEVENT
DTSTART;TZID=UTC:20231223T100000
DTEND;TZID=UTC:20231223T150000
DTSTAMP:20260423T092709
CREATED:20231227T181345Z
LAST-MODIFIED:20231227T181345Z
UID:2479-1703325600-1703343600@dabong.nadi.my
SUMMARY:Pemeriksaan Mata Percuma
DESCRIPTION:
URL:https://dabong.nadi.my/event/pemeriksaan-mata-percuma/
LOCATION:PEDi DABONG\, PEDi DABONG
CATEGORIES:DEFAULT
END:VEVENT
BEGIN:VEVENT
DTSTART;TZID=UTC:20231211T100000
DTEND;TZID=UTC:20231211T130000
DTSTAMP:20260423T092709
CREATED:20231227T181257Z
LAST-MODIFIED:20231227T181257Z
UID:2478-1702288800-1702299600@dabong.nadi.my
SUMMARY:Kelas Pemasaran Digital
DESCRIPTION:
URL:https://dabong.nadi.my/event/kelas-pemasaran-digital/
LOCATION:PEDi DABONG\, PEDi DABONG
CATEGORIES:DEFAULT
END:VEVENT
BEGIN:VEVENT
DTSTART;TZID=UTC:20230521T090000
DTEND;TZID=UTC:20230530T170000
DTSTAMP:20260423T092709
CREATED:20230520T211412Z
LAST-MODIFIED:20230520T211412Z
UID:2477-1684659600-1685466000@dabong.nadi.my
SUMMARY:PENDAFTARAN DARJAH 1 (IDME)
DESCRIPTION:Pengenalan Sistem Pengurusan IDentiti (idMe) dan pendaftaran darjah 1
URL:https://dabong.nadi.my/event/pendaftaran-darjah-1-idme/
LOCATION:PEDi DABONG\, PEDi DABONG
CATEGORIES:DEFAULT
END:VEVENT
BEGIN:VEVENT
DTSTART;TZID=UTC:20230216T090000
DTEND;TZID=UTC:20230216T130000
DTSTAMP:20260423T092709
CREATED:20230226T205703Z
LAST-MODIFIED:20230226T205703Z
UID:2476-1676538000-1676552400@dabong.nadi.my
SUMMARY:Kelas Tiktok Seller
DESCRIPTION:Kolaborasi bersama RD Kuala Gris
URL:https://dabong.nadi.my/event/kelas-tiktok-seller/
LOCATION:PEDi DABONG\, PEDi DABONG
CATEGORIES:DEFAULT
END:VEVENT
BEGIN:VEVENT
DTSTART;TZID=UTC:20220805T080000
DTEND;TZID=UTC:20220805T170000
DTSTAMP:20260423T092709
CREATED:20220718T004747Z
LAST-MODIFIED:20220718T004747Z
UID:2475-1659686400-1659718800@dabong.nadi.my
SUMMARY:HARI BERSAMA KOMUNITI KLUSTER KUALA KRAI
DESCRIPTION:
URL:https://dabong.nadi.my/event/hari-bersama-komuniti-kluster-kuala-krai/
LOCATION:PEDi Guchil\, PEDi Guchil
CATEGORIES:DEFAULT
END:VEVENT
BEGIN:VEVENT
DTSTART;TZID=UTC:20220322T020000
DTEND;TZID=UTC:20220322T170000
DTSTAMP:20260423T092709
CREATED:20220302T195258Z
LAST-MODIFIED:20220302T195258Z
UID:2469-1647914400-1647968400@dabong.nadi.my
SUMMARY:MIicrosoft Excel
DESCRIPTION:
URL:https://dabong.nadi.my/event/miicrosoft-excel/
LOCATION:PEDi DABONG\, PEDi DABONG
CATEGORIES:DEFAULT
END:VEVENT
END:VCALENDAR