BEGIN:VCALENDAR
VERSION:2.0
PRODID:-//NADI Dabong - ECPv6.15.20//NONSGML v1.0//EN
CALSCALE:GREGORIAN
METHOD:PUBLISH
X-WR-CALNAME:NADI Dabong
X-ORIGINAL-URL:https://dabong.nadi.my
X-WR-CALDESC:Events for NADI Dabong
REFRESH-INTERVAL;VALUE=DURATION:PT1H
X-Robots-Tag:noindex
X-PUBLISHED-TTL:PT1H
BEGIN:VTIMEZONE
TZID:Asia/Kuala_Lumpur
BEGIN:STANDARD
TZOFFSETFROM:+0800
TZOFFSETTO:+0800
TZNAME:+08
DTSTART:20240101T000000
END:STANDARD
END:VTIMEZONE
BEGIN:VEVENT
DTSTART;TZID=Asia/Kuala_Lumpur:20250809T100000
DTEND;TZID=Asia/Kuala_Lumpur:20250809T110000
DTSTAMP:20260425T193358
CREATED:20250808T064646Z
LAST-MODIFIED:20250808T064646Z
UID:3228-1754733600-1754737200@dabong.nadi.my
SUMMARY:NADI X KIDVENTURE - COHORT 4 - PERANCANGAN KEWANGAN
DESCRIPTION:
URL:https://dabong.nadi.my/event/nadi-x-kidventure-cohort-4-perancangan-kewangan/
END:VEVENT
BEGIN:VEVENT
DTSTART;TZID=Asia/Kuala_Lumpur:20250809T100000
DTEND;TZID=Asia/Kuala_Lumpur:20250809T110000
DTSTAMP:20260425T193358
CREATED:20250808T064906Z
LAST-MODIFIED:20250808T064906Z
UID:3230-1754733600-1754737200@dabong.nadi.my
SUMMARY:UNBOXING KIT TINY TECHIES (RENDAH - ROBOTIK)
DESCRIPTION:
URL:https://dabong.nadi.my/event/unboxing-kit-tiny-techies-rendah-robotik/
END:VEVENT
BEGIN:VEVENT
DTSTART;TZID=Asia/Kuala_Lumpur:20250809T113000
DTEND;TZID=Asia/Kuala_Lumpur:20250809T123000
DTSTAMP:20260425T193358
CREATED:20250808T065035Z
LAST-MODIFIED:20250808T065035Z
UID:3232-1754739000-1754742600@dabong.nadi.my
SUMMARY:UNBOXING KIT TINY TECHIES (MENENGAH - IOT INOVASI)
DESCRIPTION:
URL:https://dabong.nadi.my/event/unboxing-kit-tiny-techies-menengah-iot-inovasi/
END:VEVENT
BEGIN:VEVENT
DTSTART;TZID=Asia/Kuala_Lumpur:20250823T143000
DTEND;TZID=Asia/Kuala_Lumpur:20250823T163000
DTSTAMP:20260425T193358
CREATED:20250822T032354Z
LAST-MODIFIED:20250822T032354Z
UID:3274-1755959400-1755966600@dabong.nadi.my
SUMMARY:NADI DILEA EDISI 3-KENAL DIRI\,PILIH KERJAYA:MERANCANG MASA DEPAN
DESCRIPTION:
URL:https://dabong.nadi.my/event/nadi-dilea-edisi-3-kenal-diripilih-kerjayamerancang-masa-depan/
END:VEVENT
BEGIN:VEVENT
DTSTART;TZID=Asia/Kuala_Lumpur:20250825T100000
DTEND;TZID=Asia/Kuala_Lumpur:20250825T140000
DTSTAMP:20260425T193358
CREATED:20250822T031303Z
LAST-MODIFIED:20250822T031303Z
UID:3266-1756116000-1756130400@dabong.nadi.my
SUMMARY:TABUNG HAJI GERAK DI NADI DABONG
DESCRIPTION:
URL:https://dabong.nadi.my/event/tabung-haji-gerak-di-nadi-dabong/
END:VEVENT
END:VCALENDAR