BEGIN:VCALENDAR
VERSION:2.0
PRODID:-//NADI Dabong - ECPv6.15.20//NONSGML v1.0//EN
CALSCALE:GREGORIAN
METHOD:PUBLISH
X-WR-CALNAME:NADI Dabong
X-ORIGINAL-URL:https://dabong.nadi.my
X-WR-CALDESC:Events for NADI Dabong
REFRESH-INTERVAL;VALUE=DURATION:PT1H
X-Robots-Tag:noindex
X-PUBLISHED-TTL:PT1H
BEGIN:VTIMEZONE
TZID:Asia/Kuala_Lumpur
BEGIN:STANDARD
TZOFFSETFROM:+0800
TZOFFSETTO:+0800
TZNAME:+08
DTSTART:20240101T000000
END:STANDARD
END:VTIMEZONE
BEGIN:VEVENT
DTSTART;TZID=Asia/Kuala_Lumpur:20250904T093000
DTEND;TZID=Asia/Kuala_Lumpur:20250904T113000
DTSTAMP:20260425T064950
CREATED:20250903T085417Z
LAST-MODIFIED:20250903T085422Z
UID:3306-1756978200-1756985400@dabong.nadi.my
SUMMARY:KELAS SHORT LEARNING SERIES (SLS) NADI MAHIR
DESCRIPTION:
URL:https://dabong.nadi.my/event/kelas-short-learning-series-sls-nadi-mahir/
END:VEVENT
BEGIN:VEVENT
DTSTART;TZID=Asia/Kuala_Lumpur:20250906T100000
DTEND;TZID=Asia/Kuala_Lumpur:20250906T160000
DTSTAMP:20260425T064950
CREATED:20250903T084604Z
LAST-MODIFIED:20250903T084604Z
UID:3295-1757152800-1757174400@dabong.nadi.my
SUMMARY:PROGRAM KHAS MERDEKA & HARI MALAYSIA
DESCRIPTION:
URL:https://dabong.nadi.my/event/program-khas-merdeka-hari-malaysia/
END:VEVENT
BEGIN:VEVENT
DTSTART;TZID=Asia/Kuala_Lumpur:20250913T080000
DTEND;TZID=Asia/Kuala_Lumpur:20250913T180000
DTSTAMP:20260425T064950
CREATED:20250912T014648Z
LAST-MODIFIED:20250912T014648Z
UID:3329-1757750400-1757786400@dabong.nadi.my
SUMMARY:Kembara Ilmu\, Warisan Kita – Sentuhan Komuniti Bestari @ Dabong di Padang Awam Kuala Gris
DESCRIPTION:
URL:https://dabong.nadi.my/event/kembara-ilmu-warisan-kita-sentuhan-komuniti-bestari-dabong-di-padang-awam-kuala-gris/
END:VEVENT
BEGIN:VEVENT
DTSTART;TZID=Asia/Kuala_Lumpur:20250913T143000
DTEND;TZID=Asia/Kuala_Lumpur:20250913T163000
DTSTAMP:20260425T064950
CREATED:20250912T015026Z
LAST-MODIFIED:20250912T015040Z
UID:3331-1757773800-1757781000@dabong.nadi.my
SUMMARY:WEBINAR BERKALA MATEMATIK EDISI 3 TINGKATAN 1-5
DESCRIPTION:
URL:https://dabong.nadi.my/event/webinar-berkala-matematik-edisi-3-tingkatan-1-5/
END:VEVENT
BEGIN:VEVENT
DTSTART;TZID=Asia/Kuala_Lumpur:20250925T150000
DTEND;TZID=Asia/Kuala_Lumpur:20250925T163000
DTSTAMP:20260425T064950
CREATED:20250923T070818Z
LAST-MODIFIED:20250923T070818Z
UID:3351-1758812400-1758817800@dabong.nadi.my
SUMMARY:WEBINAR SIM SWAP:ANCAMAN SIBER KEPADA USAHAWAN SLOT 2
DESCRIPTION:
URL:https://dabong.nadi.my/event/webinar-sim-swapancaman-siber-kepada-usahawan-slot-2/
END:VEVENT
BEGIN:VEVENT
DTSTART;TZID=Asia/Kuala_Lumpur:20250927T143000
DTEND;TZID=Asia/Kuala_Lumpur:20250927T163000
DTSTAMP:20260425T064950
CREATED:20250923T070706Z
LAST-MODIFIED:20250923T070706Z
UID:3349-1758983400-1758990600@dabong.nadi.my
SUMMARY:WEBINAR BERKALA BAHASA MELAYU
DESCRIPTION:
URL:https://dabong.nadi.my/event/webinar-berkala-bahasa-melayu/
END:VEVENT
END:VCALENDAR